Workbook

Sheet Données
A1: Compte de résultat | H1: Bilan | O1: Tableau des Flux de trésorerie
A2: en millions d'euros | B2: 2021 | C2: 2022 | D2: 2023 | E2: 2024 | F2: 2025 | H2: Actif | O2: en millions d'euros | P2: 2021 | Q2: 2022 | R2: 2023 | S2: 2024 | T2: 2025
A3: Chiffre d’affaires | B3: 2933.6 | C3: 3177.2 | D3: 3480.2 | E3: 3926.3 | F3: 3660.2 | H3: en millions d'euros | I3: 2021 | J3: 2022 | K3: 2023 | L3: 2024 | M3: 2025 | O3: Résultat net part du groupe | P3: 222.7 | Q3: 278.4 | R3: 308.1 | S3: 374.4 | T3: 239.3
A4: Autres produits de l’activité | B4: 23.7 | C4: 18.8 | D4: 22.7 | E4: 18.7 | F4: 28.4 | H4: Écarts d’acquisition | I4: 279.4 | J4: 344.9 | K4: 351 | L4: 367.5 | M4: 421.3 | O4: Part des minoritaires dans le résultat | P4: 0.2 | Q4: 0.1 | R4: 0.2 | S4: 0.1 | T4: 0.1
A5: Variation des stocks de produits finis et d’encours | B5: 24.7 | C5: -25.6 | D5: 143.8 | E5: 228.5 | F5: -169.8 | H5: Immobilisations incorporelles | I5: 58.3 | J5: 102.7 | K5: 97 | L5: 91.9 | M5: 134.9 | O5: Élimination du résultat net des entreprises associées | P5: -3.7 | Q5: -4 | R5: -2.3 | S5: -0.9 | T5: -2.7
A6: Achats consommés | B6: -2005.4 | C6: -2119.3 | D6: -2449.6 | E6: -2799.6 | F6: -2312.7 | H6: Immobilisations corporelles + droits d’usage | I6: 310.4 | J6: 399 | K6: 422.1 | L6: 454.7 | M6: 514.6 | O6: Élimination de la charge / produit d’impôt | P6: 58.3 | Q6: 83.4 | R6: 105.7 | S6: 124.3 | T6: 85.4
A7: Charges de personnel | B7: -378.6 | C7: -420.2 | D7: -468.4 | E7: -516.1 | F7: -523.9 | H7: Participations dans les entreprises associées | I7: 30.2 | J7: 15.7 | K7: 16 | L7: 16.9 | M7: 19.6 | O7: Élimination des amortissements et provisions | P7: 42.6 | Q7: 65 | R7: 58 | S7: 69.8 | T7: 68.8
A8: Charges externes | B8: -192.2 | C8: -214.5 | D8: -237.1 | E8: -265.3 | F8: -256.8 | H8: Autres actifs financiers | I8: 3.6 | J8: 4.3 | K8: 4.6 | L8: 6.2 | M8: 9.2 | O8: Élimination des résultats de cessions d’actifs | P8: 0.2 | Q8: 2.9 | R8: 8.5 | S8: 2.9 | T8: 0.5
A9: Impôts et taxes | B9: -8.8 | C9: -11.7 | D9: -12 | E9: -11.8 | F9: -14 | H9: Actifs d’impôts différés | I9: 51.3 | J9: 47 | K9: 40.4 | L9: 42 | M9: 41.1 | O9: Élimination des charges / produits d’intérêt nets | P9: 2.1 | Q9: 1.7 | R9: -0.8 | S9: -6.6 | T9: -0.8
A10: Amortissements et dépréciations | B10: -39 | C10: -62 | D10: -56.2 | E10: -80 | F10: -75.5 | H10: Autres actifs non courants | I10: 0.2 | J10: 0.1 | K10: 0.1 | L10: 0.2 | M10: 0.2 | O10: Autres produits et charges sans incidence sur la trésorerie | P10: 75.2 | Q10: -19.9 | R10: 0.2 | S10: -8.9 | T10: -3.8
A11: Résultat opérationnel courant | B11: 357.9 | C11: 342.7 | D11: 423.4 | E11: 500.7 | F11: 335.9 | H11: Total actifs non courants | I11: 733.5 | J11: 913.7 | K11: 931.1 | L11: 979.4 | M11: 1140.9 | O11: Marge brute d’autofinancement | P11: 397.5 | Q11: 407.6 | R11: 477.7 | S11: 555.1 | T11: 386.8
A12: Autres produits / charges opérationnels | B12: 0.1 | C12: -1.5 | D12: -0.7 | E12: -1.7 | F12: -1.6 | H12: Stocks et en-cours | I12: 504.2 | J12: 596 | K12: 804.6 | L12: 1068.5 | M12: 899.6 | O12: Dividendes reçus des entreprises associées | P12: 1.6 | Q12: 18.5 | R12: 2.7 | S12: — | T12: —
A13: Résultat opérationnel | B13: 358 | C13: 341.2 | D13: 422.7 | E13: 499 | F13: 334.3 | H13: Clients et autres débiteurs | I13: 206 | J13: 242.1 | K13: 282.7 | L13: 398.9 | M13: 341.6 | O13: Variation du besoin en fonds de roulement | P13: 41.1 | Q13: -148.6 | R13: -193.9 | S13: -382.6 | T13: 314.9
A14: Coût de l’endettement financier net | B14: -1.9 | C14: -2 | D14: 0.4 | E14: -7.3 | F14: 0.8 | H14: Créances d’impôt | I14: 2.6 | J14: 8 | K14: 6.4 | L14: 10.4 | M14: 29.5 | O14: Impôts encaissés / payés | P14: -51.5 | Q14: -106 | R14: -84.8 | S14: -131.9 | T14: -137.8
A15: Autres produits et charges financiers | B15: -78.6 | C15: 18.7 | D15: -11.4 | E15: 6.2 | F15: -13 | H15: Autres actifs courants | I15: 149 | J15: 126.3 | K15: 144.8 | L15: 164.1 | M15: 212.9 | O15: Flux de trésorerie liés aux activités opérationnelles | P15: 388.8 | Q15: 171.5 | R15: 201.7 | S15: 40.6 | T15: 563.9
A16: Résultat financier | B16: -80.5 | C16: 16.7 | D16: -11 | E16: -1.1 | F16: -12.2 | H16: Trésorerie et équivalents de trésorerie | I16: 597.5 | J16: 447.4 | K16: 359 | L16: 261.3 | M16: 650.8 | O16: Acquisition de filiales nette de trésorerie | P16: — | Q16: -103.6 | R16: -10 | S16: -36.6 | T16: -203
A17: Charge d’impôt | B17: -58.3 | C17: -83.4 | D17: -105.7 | E17: -124.3 | F17: -85.4 | H17: Total actifs courants | I17: 1459.3 | J17: 1419.8 | K17: 1597.5 | L17: 1903.2 | M17: 2134.4 | O17: Acquisition d’immobilisations incorporelles | P17: -2.9 | Q17: -3.7 | R17: -3.6 | S17: -2.7 | T17: -2.1
A18: Quote-part du résultat net des entreprises associées | B18: 3.7 | C18: 4 | D18: 2.3 | E18: 0.9 | F18: 2.7 | H18: Actifs non courants destinés à être cédés | I18: 1.9 | J18: — | K18: — | L18: — | M18: — | O18: Acquisition d’immobilisations corporelles | P18: -39.7 | Q18: -74.5 | R18: -53.6 | S18: -58.1 | T18: -41.1
A19: Résultat net | B19: 222.9 | C19: 278.5 | D19: 308.3 | E19: 374.5 | F19: 239.4 | H19: Total Actif | I19: 2194.7 | J19: 2333.4 | K19: 2528.6 | L19: 2882.6 | M19: 3275.3 | O19: Cession d’immobilisations corporelles | P19: 2.1 | Q19: 3.8 | R19: 2 | S19: 1.3 | T19: 2.3
A20: Résultat net part du groupe | B20: 222.7 | C20: 278.4 | D20: 308.1 | E20: 374.4 | F20: 239.3 | O20: Autres opérations d’investissement | P20: 0.3 | Q20: 0.3 | R20: 2.7 | S20: -2.1 | T20: -3.3
A21: Résultat par action (€) | B21: 11.56 | C21: 14.58 | D21: 15.95 | E21: 19.39 | F21: 12.41 | O21: Flux de trésorerie liés aux activités d’investissement | P21: -40.2 | Q21: -177.7 | R21: -62.5 | S21: -98.2 | T21: -247.2
O22: Cession / acquisition nette d’actions propres | P22: 0.2 | Q22: -22.9 | R22: 27.9 | S22: -0.7 | T22: -1.9
H23: Passif | O23: Remboursement de dettes de location IFRS 16 | P23: -6 | Q23: -10.6 | R23: -14.4 | S23: -18.6 | T23: -23
H24: Capital et primes | I24: 86.5 | J24: 86.5 | K24: 86.5 | L24: 86.5 | M24: 86.5 | O24: Émission d’emprunts | P24: 6.2 | Q24: 14.1 | R24: 1.3 | S24: 0.7 | T24: 199.5
H25: Réserves et résultats consolidés | I25: 1089.9 | J25: 1254.2 | K25: 1518.3 | L25: 1827.9 | M25: 1994 | O25: Remboursement d’emprunts | P25: -32.3 | Q25: -36.8 | R25: -10.7 | S25: -6.5 | T25: -25.4
A26: Croissance du CA | B26: 0.343 | C26: 0.083 | D26: 0.095 | E26: 0.128 | F26: -0.068 | H26: Capitaux propres, part du groupe | I26: 1176.4 | J26: 1340.7 | K26: 1604.8 | L26: 1914.4 | M26: 2080.5 | O26: Variations d’autres dettes auprès d’établissements de crédit | P26: — | Q26: — | R26: — | S26: 39.7 | T26: 2.1
A27: Coût des ventes estimé | B27: 1980.7 | C27: 2144.9 | D27: 2305.8 | E27: 2571.1 | F27: 2482.5 | H27: Intérêts ne donnant pas le contrôle | I27: 0.9 | J27: 0.4 | K27: 0.6 | L27: 0.7 | M27: 0.8 | O27: Intérêts versés | P27: -2.4 | Q27: -2.6 | R27: -4.8 | S27: -1 | T27: -3.6
A28: Résultat brut | B28: 952.9 | C28: 1032.3 | D28: 1174.4 | E28: 1355.2 | F28: 1177.7 | H28: Capitaux propres de l’ensemble consolidé | I28: 1177.4 | J28: 1341.1 | K28: 1605.4 | L28: 1915.1 | M28: 2081.3 | O28: Intérêts encaissés | P28: 0.3 | Q28: 0.8 | R28: 5.5 | S28: 6.4 | T28: 6.4
A29: Marge brute | B29: =B28/B3 -> 0.32482274 | C29: 0.325 | D29: 0.337 | E29: 0.345 | F29: 0.322 | H29: Passifs financiers non courants + dettes de location | I29: 167.9 | J29: 163.1 | K29: 136.7 | L29: 145.5 | M29: 252.1 | O29: Dividendes payés aux actionnaires du groupe | P29: -42.4 | Q29: -95.1 | R29: -67.6 | S29: -67.6 | T29: -67.5
A30: EBIT | B30: =B13 -> 358 | C30: =C13 -> 341.2 | D30: =D13 -> 422.7 | E30: =E13 -> 499 | F30: =F13 -> 334.3 | H30: Provisions non courantes / long terme | I30: 51.2 | J30: 52.3 | K30: 53.3 | L30: 59.5 | M30: 66.1 | O30: Dividendes payés aux minoritaires | P30: — | Q30: -0.3 | R30: 0 | S30: — | T30: —
A31: Marge EBIT | B31: =B13/B3 -> 0.12203436 | C31: =C13/C3 -> 0.10739015 | D31: =D13/D3 -> 0.12145854 | E31: =E13/E3 -> 0.12709166 | F31: =F13/F3 -> 0.091333807 | H31: Passifs d’impôts différés | I31: 4.5 | J31: 15.6 | K31: 12.7 | L31: 10.1 | M31: 26.2 | O31: Rachat d’intérêts ne donnant pas le contrôle | P31: -6.8 | Q31: -45.6 | R31: -108.8 | S31: — | T31: -10.9
A32: Résultat net | B32: 222.9 | C32: 278.5 | D32: 308.3 | E32: 374.5 | F32: 239.4 | H32: Autres passifs non courants | I32: 1.7 | J32: 2 | K32: 2 | L32: 2.4 | M32: 2.4 | O32: Flux de trésorerie liés aux activités de financement | P32: -83.2 | Q32: -198.9 | R32: -171.6 | S32: -47.5 | T32: 75.7
A33: Marge nette | B33: =B32/B3 -> 0.075981729 | C33: =C32/C3 -> 0.087655798 | D33: =D32/D3 -> 0.088586863 | E33: =E32/E3 -> 0.095382421 | F33: =F32/F3 -> 0.065406262 | H33: Total passifs non courants | I33: 225.3 | J33: 233 | K33: 204.7 | L33: 217.5 | M33: 346.8 | O33: Incidence de la variation des taux de change | P33: 1 | Q33: -0.4 | R33: -2 | S33: 2 | T33: -0.6
A34: EBITDA | B34: =B11-B10 -> 396.9 | C34: =C11-C10 -> 404.7 | D34: =D11-D10 -> 479.6 | E34: =E11-E10 -> 580.7 | F34: =F11-F10 -> 411.4 | H34: Passifs financiers courants + dettes de location | I34: 81.3 | J34: 158.6 | K34: 27.7 | L34: 71.2 | M34: 119.7 | O34: Variation de la trésorerie | P34: 266.3 | Q34: -205.5 | R34: -34.4 | S34: -103.1 | T34: 391.8
H35: Provisions courantes | I35: 22.6 | J35: 26.9 | K35: 26.6 | L35: 26.2 | M35: 26.9 | O35: Trésorerie d’ouverture | P35: 330.3 | Q35: 596.6 | R35: 391.1 | S35: 356.7 | T35: 253.6
H36: Fournisseurs et autres créditeurs | I36: 527.2 | J36: 404 | K36: 477.9 | L36: 439.1 | M36: 505 | O36: Trésorerie et équivalents de trésorerie | P36: 330.3 | Q36: 597.5 | R36: 447.4 | S36: 359 | T36: 261.3
H37: Dettes d’impôt | I37: 41.6 | J37: 20.2 | K37: 37.5 | L37: 38.2 | M37: 7.3 | O37: Concours bancaires courants | P37: -0.1 | Q37: -0.9 | R37: -56.4 | S37: -2.3 | T37: -7.7
H38: Autres passifs courants | I38: 119.5 | J38: 149.6 | K38: 148.9 | L38: 175.3 | M38: 188.4 | O38: Trésorerie de clôture | P38: 596.6 | Q38: 391.1 | R38: 356.7 | S38: 253.6 | T38: 645.4
H39: Total passifs courants | I39: 792.1 | J39: 759.3 | K39: 718.5 | L39: 750 | M39: 847.2 | O39: Trésorerie et équivalents de trésorerie | P39: 597.5 | Q39: 447.4 | R39: 359 | S39: 261.3 | T39: 650.8
H40: Total Passif | I40: 2194.7 | J40: 2333.4 | K40: 2528.6 | L40: 2882.6 | M40: 3275.3 | O40: Concours bancaires courants | P40: -0.9 | Q40: -56.4 | R40: -2.3 | S40: -7.7 | T40: -5.4
...

Sheet Tableaux de synthèse
A2: Évolution du chiffre d’affaires, de l’EBIT et du résultat net de Trigano entre 2021 et 2025 | I2: Structure des coûts et évolution de la marge brute de Trigano entre 2021 et 2025 | P2: Évolution de l’EBITDA, de l’EBIT et des marges opérationnelles de Trigano entre 2021 et 2025
B3: 2021 | C3: 2022 | D3: 2023 | E3: 2024 | F3: 2025 | J3: 2021 | K3: 2022 | L3: 2023 | M3: 2024 | N3: 2025 | Q3: 2021 | R3: 2022 | S3: 2023 | T3: 2024 | U3: 2025
A4: Chiffre d’affaires (M€) | B4: =Données!B3 -> 2933.6 | C4: =Données!C3 -> 3177.2 | D4: =Données!D3 -> 3480.2 | E4: =Données!E3 -> 3926.3 | F4: =Données!F3 -> 3660.2 | I4: Chiffre d’affaires(M€) | J4: =Données!B3 -> 2933.6 | K4: =Données!C3 -> 3177.2 | L4: =Données!D3 -> 3480.2 | M4: =Données!E3 -> 3926.3 | N4: =Données!F3 -> 3660.2 | P4: Chiffre d’affaires (M€) | Q4: =B4 -> 2933.6 | R4: =C4 -> 3177.2 | S4: =D4 -> 3480.2 | T4: =E4 -> 3926.3 | U4: =F4 -> 3660.2
A5: Croissance (%) | B5: =Données!B26 -> 0.343 | C5: =Données!C26 -> 0.083 | D5: =Données!D26 -> 0.095 | E5: =Données!E26 -> 0.128 | F5: =Données!F26 -> -0.068 | I5: Résultat brut(M€) | J5: =Données!B28 -> 952.9 | K5: =Données!C28 -> 1032.3 | L5: =Données!D28 -> 1174.4 | M5: =Données!E28 -> 1355.2 | N5: =Données!F28 -> 1177.7 | P5: EBITDA (M€) | Q5: =Données!B34 -> 396.9 | R5: =Données!C34 -> 404.7 | S5: =Données!D34 -> 479.6 | T5: =Données!E34 -> 580.7 | U5: =Données!F34 -> 411.4
A6: EBIT (M€) | B6: =Données!B13 -> 358 | C6: =Données!C13 -> 341.2 | D6: =Données!D13 -> 422.7 | E6: =Données!E13 -> 499 | F6: =Données!F13 -> 334.3 | I6: Cout des Ventes(M€) | J6: =Données!B27 -> 1980.7 | K6: =Données!C27 -> 2144.9 | L6: =Données!D27 -> 2305.8 | M6: =Données!E27 -> 2571.1 | N6: =Données!F27 -> 2482.5 | P6: Marge EBITDA (%) | Q6: ='Tableaux de synthèse'!Q5/'Tableaux de synthèse'!Q4 -> 0.13529452 | R6: ='Tableaux de synthèse'!R5/'Tableaux de synthèse'!R4 -> 0.12737631 | S6: ='Tableaux de synthèse'!S5/'Tableaux de synthèse'!S4 -> 0.13780817 | T6: ='Tableaux de synthèse'!T5/'Tableaux de synthèse'!T4 -> 0.14790006 | U6: ='Tableaux de synthèse'!U5/'Tableaux de synthèse'!U4 -> 0.11239823
A7: Marge EBIT (%) | B7: =Données!B31 -> 0.12203436 | C7: =Données!C31 -> 0.10739015 | D7: =Données!D31 -> 0.12145854 | E7: =Données!E31 -> 0.12709166 | F7: =Données!F31 -> 0.091333807 | I7: Coût des ventes / CA (%) | J7: =J6/J4 -> 0.67517726 | K7: =K6/K4 -> 0.67509128 | L7: =L6/L4 -> 0.66254813 | M7: =M6/M4 -> 0.65484044 | N7: =N6/N4 -> 0.67824163 | P7: EBIT (M€) | Q7: =Données!B30 -> 358 | R7: =Données!C30 -> 341.2 | S7: =Données!D30 -> 422.7 | T7: =Données!E30 -> 499 | U7: =Données!F30 -> 334.3
A8: Résultat net (M€) | B8: =Données!B19 -> 222.9 | C8: =Données!C19 -> 278.5 | D8: =Données!D19 -> 308.3 | E8: =Données!E19 -> 374.5 | F8: =Données!F19 -> 239.4 | I8: Marge brute (%) | J8: =Données!B29 -> 0.32482274 | K8: =Données!C29 -> 0.325 | L8: =Données!D29 -> 0.337 | M8: =Données!E29 -> 0.345 | N8: =Données!F29 -> 0.322 | P8: Marge EBIT (%) | Q8: =Q7/Q4 -> 0.12203436 | R8: =R7/R4 -> 0.10739015 | S8: =S7/S4 -> 0.12145854 | T8: =T7/T4 -> 0.12709166 | U8: =U7/U4 -> 0.091333807
A9: Marge nette (%) | B9: =Données!B33 -> 0.075981729 | C9: =Données!C33 -> 0.087655798 | D9: =Données!D33 -> 0.088586863 | E9: =Données!E33 -> 0.095382421 | F9: =Données!F33 -> 0.065406262 | I9: Résultat opérationnel courant(M€) | J9: =Données!B11 -> 357.9 | K9: =Données!C11 -> 342.7 | L9: =Données!D11 -> 423.4 | M9: =Données!E11 -> 500.7 | N9: =Données!F11 -> 335.9
I10: Charges opérationnelles totales(M€) | J10: =J5-J9 -> 595 | K10: =K5-K9 -> 689.6 | L10: =L5-L9 -> 751 | M10: =M5-M9 -> 854.5 | N10: =N5-N9 -> 841.8
A11: CAGR 2021-2024 | B11: =(E4/B4)^(1/3)-1 -> 0.10203197
A12: Croissance 2021-2024 | B12: =(E4-B4)/B4 -> 0.33838969 | I12: Évolution du besoin en fonds de roulement de Trigano entre 2021 et 2025
J13: 2021 | K13: 2022 | L13: 2023 | M13: 2024 | N13: 2025
B14: EBITDA | C14: EBIT | I14: Stocks | J14: =Données!I12 -> 504.2 | K14: =Données!J12 -> 596 | L14: =Données!K12 -> 804.6 | M14: =Données!L12 -> 1068.5 | N14: =Données!M12 -> 899.6
A15: 2021 | B15: =Données!B34 -> 396.9 | C15: ='Tableaux de synthèse'!B6 -> 358 | I15: Créances | J15: =Données!I13 -> 206 | K15: =Données!J13 -> 242.1 | L15: =Données!K13 -> 282.7 | M15: =Données!L13 -> 398.9 | N15: =Données!M13 -> 341.6
A16: 2022 | B16: =Données!C34 -> 404.7 | C16: =C6 -> 341.2 | I16: Fournisseurs | J16: =Données!I36 -> 527.2 | K16: =Données!J36 -> 404 | L16: =Données!K36 -> 477.9 | M16: =Données!L36 -> 439.1 | N16: =Données!M36 -> 505
A17: 2023 | B17: =Données!D34 -> 479.6 | C17: =D6 -> 422.7 | I17: BFR | J17: =J14+J15-J16 -> 183 | K17: =K14+K15-K16 -> 434.1 | L17: =L14+L15-L16 -> 609.4 | M17: =M14+M15-M16 -> 1028.3 | N17: =N14+N15-N16 -> 736.2
A18: 2024 | B18: =Données!E34 -> 580.7 | C18: =E6 -> 499 | I18: BFR / CA (%) | J18: =J17/Données!B3 -> 0.062380693 | K18: =K17/Données!C3 -> 0.13662974 | L18: =L17/Données!D3 -> 0.17510488 | M18: =M17/Données!E3 -> 0.26190052 | N18: =N17/Données!F3 -> 0.20113655
A19: 2025 | B19: =Données!F34 -> 411.4 | C19: =F6 -> 334.3
I21: Structure financière et position de trésorerie nette de Trigano entre 2021 et 2025
J22: 2021 | K22: 2022 | L22: 2023 | M22: 2024 | N22: 2025
I23: Capitaux propres (M€) | J23: =Données!I28 -> 1177.4 | K23: =Données!J28 -> 1341.1 | L23: =Données!K28 -> 1605.4 | M23: =Données!L28 -> 1915.1 | N23: =Données!M28 -> 2081.3
I24: Dette financière avec location (M€) | J24: =Données!I29+Données!I34 -> 249.2 | K24: =Données!J29+Données!J34 -> 321.7 | L24: =Données!K29+Données!K34 -> 164.4 | M24: =Données!L29+Données!L34 -> 216.7 | N24: =Données!M29+Données!M34 -> 371.8
I25: Trésorerie (M€) | J25: =Données!I16 -> 597.5 | K25: =Données!J16 -> 447.4 | L25: =Données!K16 -> 359 | M25: =Données!L16 -> 261.3 | N25: =Données!M16 -> 650.8
I26: EBITDA (M€) | J26: =Données!B34 -> 396.9 | K26: =Données!C34 -> 404.7 | L26: =Données!D34 -> 479.6 | M26: =Données!E34 -> 580.7 | N26: =Données!F34 -> 411.4
I27: Dette financière nette / EBITDA (x) | J27: =(J24-J25)/J26 -> -0.87755102 | K27: =(K24-K25)/K26 -> -0.31060044 | L27: =(L24-L25)/L26 -> -0.4057548 | M27: =(M24-M25)/M26 -> -0.076803857 | N27: =(N24-N25)/N26 -> -0.6781721
I29: Conversion du résultat net en flux de trésorerie opérationnel entre 2021 et 2025
J30: 2021 | K30: 2022 | L30: 2023 | M30: 2024 | N30: 2025
I31: Résultat net | J31: =Données!B19 -> 222.9 | K31: =Données!C19 -> 278.5 | L31: =Données!D19 -> 308.3 | M31: =Données!E19 -> 374.5 | N31: =Données!F19 -> 239.4
I32: Flux de trésorerie opérationnel | J32: =Données!P15 -> 388.8 | K32: =Données!Q15 -> 171.5 | L32: =Données!R15 -> 201.7 | M32: =Données!S15 -> 40.6 | N32: =Données!T15 -> 563.9
I33: CFO / Résultat net(x) | J33: =J32/J31 -> 1.7442799 | K33: =K32/K31 -> 0.61579892 | L33: =L32/L31 -> 0.65423289 | M33: =M32/M31 -> 0.10841121 | N33: =N32/N31 -> 2.355472
J37: Valeur
I38: Cours de marché retenu | J38: 154.5
I39: Date d’observation | J39: Fermeture du 19-05-2026
I40: Valeur DCF | J40: =Valorisation!F17 -> 219.70896
I41: Valeur de référence retenue | J41: =J40 -> 219.70896
I42: Potentiel d’appréciation estimé | J42: =(J41/J38)-1 -> 0.42206446

Sheet FCFF
A1: Calcul historique du free cash-flow to the firm de Trigano entre 2021 et 2025 | G1: Prévision Central | N1: Prévision Pessimiste | U1: Prévision Optimiste
B2: 2021 | C2: 2022 | D2: 2023 | E2: 2024 | F2: 2025 | G2: 2026 | H2: 2027 | I2: 2028 | J2: 2029 | K2: 2030 | M2: Pessimiste | N2: 2026 | O2: 2027 | P2: 2028 | Q2: 2029 | R2: 2030 | T2: Optimiste | U2: 2026 | V2: 2027 | W2: 2028 | X2: 2029 | Y2: 2030
A3: Chiffre d’affaires | B3: =Données!B3 -> 2933.6 | C3: =Données!C3 -> 3177.2 | D3: =Données!D3 -> 3480.2 | E3: =Données!E3 -> 3926.3 | F3: =Données!F3 -> 3660.2 | G3: =F3*(1+B22) -> 3715.103 | H3: =G3*(1+C22) -> 3845.1316 | I3: =H3*(1+D22) -> 4018.1625 | J3: =I3*(1+E22) -> 4058.3442 | K3: =J3*(1+F22) -> 4139.511 | M3: Chiffre d’affaires | N3: =F3*(1+B31) -> 3550.394 | O3: =N3*(1+C31) -> 3479.3861 | P3: =O3*(1+D31) -> 3496.7831 | Q3: =P3*(1+E31) -> 3549.2348 | R3: =Q3*(1+F31) -> 3584.7271 | T3: Chiffre d’affaires | U3: =F3*(1+B40) -> 3770.006 | V3: =U3*(1+C40) -> 3977.3563 | W3: =V3*(1+D40) -> 4215.9977 | X3: =W3*(1+E40) -> 4321.3977 | Y3: =X3*(1+F40) -> 4407.8256
A4: Résultat opérationnel (EBIT) | B4: =Données!B13 -> 358 | C4: =Données!C13 -> 341.2 | D4: =Données!D13 -> 422.7 | E4: =Données!E13 -> 499 | F4: =Données!F13 -> 334.3 | G4: =G3*B23 -> 349.21968 | H4: =H3*C23 -> 376.8229 | I4: =I3*D23 -> 413.87074 | J4: =J3*E23 -> 393.65938 | K4: =K3*F23 -> 405.67208 | M4: Résultat opérationnel (EBIT) | N4: =N3*B32 -> 294.6827 | O4: =O3*C32 -> 278.35089 | P4: =P3*D32 -> 293.72978 | Q4: =Q3*E32 -> 308.78343 | R4: =R3*F32 -> 308.28653 | T4: Résultat opérationnel (EBIT) | U4: =U3*B41 -> 369.46059 | V4: =V3*C41 -> 413.64506 | W4: =W3*D41 -> 455.32775 | X4: =X3*E41 -> 449.42536 | Y4: =Y3*F41 -> 449.59821
A5: Taux d’impôt normatif | B5: 0.25 | C5: 0.25 | D5: 0.25 | E5: 0.25 | F5: 0.25 | G5: 0.25 | H5: 0.25 | I5: 0.25 | J5: 0.25 | K5: 0.25 | M5: Taux d’impôt normatif | N5: 0.25 | O5: 0.25 | P5: 0.25 | Q5: 0.25 | R5: 0.25 | T5: Taux d’impôt normatif | U5: 0.25 | V5: 0.25 | W5: 0.25 | X5: 0.25 | Y5: 0.25
A6: NOPAT | B6: =B4*(1-B5) -> 268.5 | C6: =C4*(1-C5) -> 255.9 | D6: =D4*(1-D5) -> 317.025 | E6: =E4*(1-E5) -> 374.25 | F6: =F4*(1-F5) -> 250.725 | G6: =G4*(1-G5) -> 261.91476 | H6: =H4*(1-H5) -> 282.61717 | I6: =I4*(1-I5) -> 310.40306 | ... K6: =K4*(1-K5) -> 304.25406 | M6: NOPAT | N6: =N4*(1-N5) -> 221.01203 | O6: =O4*(1-O5) -> 208.76317 | P6: =P4*(1-P5) -> 220.29733 | Q6: =Q4*(1-Q5) -> 231.58757 | R6: =R4*(1-R5) -> 231.2149 | T6: NOPAT | U6: =U4*(1-U5) -> 277.09544 | V6: =V4*(1-V5) -> 310.23379 | W6: =W4*(1-W5) -> 341.49581 | X6: =X4*(1-X5) -> 337.06902 | Y6: =Y4*(1-Y5) -> 337.19866
A7: Amortissements et dépréciations | B7: =-Données!B10 -> 39 | C7: =-Données!C10 -> 62 | D7: =-Données!D10 -> 56.2 | E7: =-Données!E10 -> 80 | F7: =-Données!F10 -> 75.5 | G7: =G3*B25 -> 70.586957 | H7: =H3*C25 -> 73.0575 | I7: =I3*D25 -> 76.345088 | J7: =J3*E25 -> 77.108539 | K7: =K3*F25 -> 78.65071 | M7: Amortissements et dépréciations | N7: =N3*B34 -> 67.457486 | O7: =O3*C34 -> 66.108336 | P7: =P3*D34 -> 66.438878 | Q7: =Q3*E34 -> 67.435461 | R7: =R3*F34 -> 68.109816 | T7: Amortissements et dépréciations | U7: =U3*B43 -> 71.630114 | V7: =V3*C43 -> 75.56977 | W7: =W3*D43 -> 80.103956 | X7: =X3*E43 -> 82.106555 | Y7: =Y3*F43 -> 83.748687
A8: CAPEX | B8: =-(Données!P17+Données!P18) -> 42.6 | C8: =-(Données!Q17+Données!Q18) -> 78.2 | D8: =-(Données!R17+Données!R18) -> 57.2 | E8: =-(Données!S17+Données!S18) -> 60.8 | F8: =-(Données!T17+Données!T18) -> 43.2 | G8: =G3*B26 -> 78.017163 | H8: =H3*C26 -> 84.592895 | I8: =I3*D26 -> 88.399576 | J8: =J3*E26 -> 81.166883 | K8: =K3*F26 -> 78.65071 | M8: CAPEX | N8: =N3*B35 -> 65.682289 | O8: =O3*C35 -> 64.368643 | P8: =P3*D35 -> 66.438878 | Q8: =Q3*E35 -> 67.435461 | R8: =R3*F35 -> 66.317452 | T8: CAPEX | U8: =U3*B44 -> 82.940132 | V8: =V3*C44 -> 91.479196 | W8: =W3*D44 -> 96.967947 | X8: =X3*E44 -> 90.749351 | Y8: =Y3*F44 -> 88.156512
A9: Variation du BFR | B9: =-Données!P13 -> -41.1 | C9: =-Données!Q13 -> 148.6 | D9: =-Données!R13 -> 193.9 | E9: =-Données!S13 -> 382.6 | F9: =-Données!T13 -> -314.9 | G9: =-('Tableaux de synthèse'!N17-FCFF!B28) -> 6.8206 | H9: =-(B28-C28) -> 45.231379 | I9: =-(C28-D28) -> 35.471339 | J9: =-(D28-E28) -> -20.171176 | K9: =-(E28-F28) -> 3.6525097 | M9: Variation du BFR | N9: =-('Tableaux de synthèse'!N17-FCFF!B37) -> 9.38274 | O9: =-(B37-C37) -> 19.882206 | P9: =-(C37-D37) -> -13.656591 | Q9: =-(D37-E37) -> -6.4690486 | R9: =-(E37-F37) -> -10.470243 | T9: Variation du BFR | U9: =-('Tableaux de synthèse'!N17-FCFF!B46) -> -1.04883 | V9: =-(B46-C46) -> 52.365383 | W9: =-(C46-D46) -> 47.250993 | X9: =-(D46-E46) -> -5.0591973 | Y9: =-(E46-F46) -> 7.7785158
A10: FCFF | B10: =B6+B7-B8-B9 -> 306 | C10: =C6+C7-C8-C9 -> 91.1 | D10: =D6+D7-D8-D9 -> 122.125 | E10: =E6+E7-E8-E9 -> 10.85 | F10: =F6+F7-F8-F9 -> 597.925 | G10: =G6+G7-G8-G9 -> 247.66396 | H10: =H6+H7-H8-H9 -> 225.8504 | I10: =I6+I7-I8-I9 -> 262.87723 | ... K10: =K6+K7-K8-K9 -> 300.60155 | M10: FCFF | N10: =N6+N7-N8-N9 -> 213.40448 | O10: =O6+O7-O8-O9 -> 190.62065 | P10: =P6+P7-P8-P9 -> 233.95392 | Q10: =Q6+Q7-Q8-Q9 -> 238.05662 | R10: =R6+R7-R8-R9 -> 243.47751 | T10: FCFF | U10: =U6+U7-U8-U9 -> 266.83425 | V10: =V6+V7-V8-V9 -> 241.95899 | W10: =W6+W7-W8-W9 -> 277.38083 | X10: =X6+X7-X8-X9 -> 333.48542 | Y10: =Y6+Y7-Y8-Y9 -> 325.01232
A13: Hypothèse | B13: Pessimiste | C13: Central | D13: Optimiste
A14: Croissance du CA | B14: -3,0 % à +1,5 % | C14: 1,0 % à 4,5 % | D14: 2,0 % à 6,0 %
A15: Marge EBIT | B15: 8,0 % à 8,7 % | C15: 9,4 % à 10,3 % | D15: 9,8 % à 10,8 %
A16: Taux d’impôt | B16: 0.25 | C16: 0.25 | D16: 0.25
A17: D&A / CA | B17: 0.019 | C17: 0.019 | D17: 0.019
A18: CAPEX / CA | B18: 1,85 % à 1,90 % | C18: 1,90 % à 2,20 % | D18: 2,00 % à 2,30 %
A19: BFR / CA | B19: 20,5 % à 22,0 % | C19: 19,5 % à 20,5 % | D19: 19,0 % à 19,8 %
A21: Prévision Central | B21: 2026 | C21: 2027 | D21: 2028 | E21: 2029 | F21: 2030
A22: Croissance du CA | B22: 0.015 | C22: 0.035 | D22: 0.045 | E22: 0.01 | F22: 0.02
A23: Marge EBIT | B23: 0.094 | C23: 0.098 | D23: 0.103 | E23: 0.097 | F23: 0.098
A24: Taux d’impôt | B24: 0.25 | C24: 0.25 | D24: 0.25 | E24: 0.25 | F24: 0.25
A25: D&A / CA | B25: 0.019 | C25: 0.019 | D25: 0.019 | E25: 0.019 | F25: 0.019
A26: CAPEX / CA | B26: 0.021 | C26: 0.022 | D26: 0.022 | E26: 0.02 | F26: 0.019
A27: BFR / CA | B27: 0.2 | C27: 0.205 | D27: 0.205 | E27: 0.198 | F27: 0.195
A28: BFR / CA | B28: =G3*B27 -> 743.0206 | C28: =H3*C27 -> 788.25198 | D28: =I3*D27 -> 823.72332 | E28: =J3*E27 -> 803.55214 | F28: =K3*F27 -> 807.20465
A30: Prévision Pessimiste | B30: 2026 | C30: 2027 | D30: 2028 | E30: 2029 | F30: 2030
A31: Croissance du CA | B31: -0.03 | C31: -0.02 | D31: 0.005 | E31: 0.015 | F31: 0.01
A32: Marge EBIT | B32: 0.083 | C32: 0.08 | D32: 0.084 | E32: 0.087 | F32: 0.086
A33: Taux d’impôt | B33: 0.25 | C33: 0.25 | D33: 0.25 | E33: 0.25 | F33: 0.25
A34: D&A / CA | B34: 0.019 | C34: 0.019 | D34: 0.019 | E34: 0.019 | F34: 0.019
A35: CAPEX / CA | B35: 0.0185 | C35: 0.0185 | D35: 0.019 | E35: 0.019 | F35: 0.0185
A36: BFR / CA | B36: 0.21 | C36: 0.22 | D36: 0.215 | E36: 0.21 | F36: 0.205
A37: BFR | B37: =N3*B36 -> 745.58274 | C37: =O3*C36 -> 765.46495 | D37: =P3*D36 -> 751.80836 | E37: =Q3*E36 -> 745.33931 | F37: =R3*F36 -> 734.86906
A39: Prévision Optimiste | B39: 2026 | C39: 2027 | D39: 2028 | E39: 2029 | F39: 2030
A40: Croissance du CA | B40: 0.03 | C40: 0.055 | D40: 0.06 | E40: 0.025 | F40: 0.02
A41: Marge EBIT | B41: 0.098 | C41: 0.104 | D41: 0.108 | E41: 0.104 | F41: 0.102
A42: Taux d’impôt | B42: 0.25 | C42: 0.25 | D42: 0.25 | E42: 0.25 | F42: 0.25
A43: D&A / CA | B43: 0.019 | C43: 0.019 | D43: 0.019 | E43: 0.019 | F43: 0.019
A44: CAPEX / CA | B44: 0.022 | C44: 0.023 | D44: 0.023 | E44: 0.021 | F44: 0.02
A45: BFR / CA | B45: 0.195 | C45: 0.198 | D45: 0.198 | E45: 0.192 | F45: 0.19
...

Sheet Valorisation
L1: Test de sensibilité
B2: Valeur | E2: Année | F2: 2026 | G2: 2027 | H2: 2028 | I2: 2029 | J2: 2030 | M2: Année | N2: 2026 | O2: 2027 | P2: 2028 | Q2: 2029 | R2: 2030 | U2: Année | V2: 2026 | W2: 2027 | X2: 2028 | Y2: 2029 | Z2: 2030 | AC2: Année | AD2: 2026 | AE2: 2027 | AF2: 2028 | AG2: 2029 | AH2: 2030 | AK2: Année | AL2: 2026 | AM2: 2027 | AN2: 2028 | AO2: 2029 | AP2: 2030 | AS2: Année | AT2: 2026 | AU2: 2027 | AV2: 2028 | AW2: 2029 | AX2: 2030
A3: Taux sans risque | B3: 0.031922 | E3: FCFF | F3: =FCFF!G10 -> 247.66396 | G3: =FCFF!H10 -> 225.8504 | H3: =FCFF!I10 -> 262.87723 | I3: =FCFF!J10 -> 311.35737 | J3: =FCFF!K10 -> 300.60155 | M3: FCFF | N3: =F3 -> 247.66396 | O3: =G3 -> 225.8504 | P3: =H3 -> 262.87723 | Q3: =I3 -> 311.35737 | R3: =J3 -> 300.60155 | U3: FCFF | V3: =N3 -> 247.66396 | W3: =O3 -> 225.8504 | X3: =P3 -> 262.87723 | Y3: =Q3 -> 311.35737 | Z3: =R3 -> 300.60155 | AC3: FCFF | AD3: =V3 -> 247.66396 | AE3: =W3 -> 225.8504 | AF3: =X3 -> 262.87723 | AG3: =Y3 -> 311.35737 | AH3: =Z3 -> 300.60155 | AK3: FCFF | AL3: =AD3 -> 247.66396 | AM3: =AE3 -> 225.8504 | AN3: =AF3 -> 262.87723 | AO3: =AG3 -> 311.35737 | AP3: =AH3 -> 300.60155 | AS3: FCFF | AT3: =AL3 -> 247.66396 | AU3: =AM3 -> 225.8504 | AV3: =AN3 -> 262.87723 | AW3: =AO3 -> 311.35737 | AX3: =AP3 -> 300.60155
A4: Bêta | B4: 1.191 | E4: WACC | F4: =B15 -> 0.084828079 | M4: WACC | N4: =Sensibilité!B4 -> 0.075 | U4: WACC | V4: =Sensibilité!B5 -> 0.08 | AC4: WACC | AD4: =Sensibilité!B6 -> 0.084828079 | AK4: WACC | AL4: =Sensibilité!B7 -> 0.09 | AS4: WACC | AT4: =Sensibilité!B8 -> 0.095
A5: Prime de risque marché | B5: 0.0501 | E5: Facteur d’actualisation | F5: =1/(1+F4)^1 -> 0.92180505 | G5: =1/(1+F4)^2 -> 0.84972455 | H5: =1/(1+F4)^3 -> 0.78328038 | I5: =1/(1+F4)^4 -> 0.72203181 | J5: =1/(1+F4)^5 -> 0.66557256 | M5: Facteur d’actualisation | N5: =1/(1+N4)^1 -> 0.93023256 | O5: =1/(1+N4)^2 -> 0.86533261 | P5: =1/(1+N4)^3 -> 0.80496057 | Q5: =1/(1+N4)^4 -> 0.74880053 | R5: =1/(1+N4)^5 -> 0.69655863 | U5: Facteur d’actualisation | V5: =1/(1+V4)^1 -> 0.92592593 | W5: =1/(1+V4)^2 -> 0.85733882 | X5: =1/(1+V4)^3 -> 0.79383224 | Y5: =1/(1+V4)^4 -> 0.73502985 | Z5: =1/(1+V4)^5 -> 0.6805832 | AC5: Facteur d’actualisation | AD5: =1/(1+AD4)^1 -> 0.92180505 | AE5: =1/(1+AD4)^2 -> 0.84972455 | AF5: =1/(1+AD4)^3 -> 0.78328038 | AG5: =1/(1+AD4)^4 -> 0.72203181 | AH5: =1/(1+AD4)^5 -> 0.66557256 | AK5: Facteur d’actualisation | AL5: =1/(1+AL4)^1 -> 0.91743119 | AM5: =1/(1+AL4)^2 -> 0.84167999 | AN5: =1/(1+AL4)^3 -> 0.77218348 | AO5: =1/(1+AL4)^4 -> 0.70842521 | AP5: =1/(1+AL4)^5 -> 0.64993139 | AS5: Facteur d’actualisation | AT5: =1/(1+AT4)^1 -> 0.91324201 | AU5: =1/(1+AT4)^2 -> 0.83401097 | AV5: =1/(1+AT4)^3 -> 0.76165385 | AW5: =1/(1+AT4)^4 -> 0.69557429 | AX5: =1/(1+AT4)^5 -> 0.63522767
A6: Coût des fonds propres | B6: =B3+B4*B5 -> 0.0915911 | E6: FCFF actualisé | F6: =F3*F5 -> 228.29788 | G6: =G3*G5 -> 191.91063 | H6: =H3*H5 -> 205.90657 | I6: =I3*I5 -> 224.80992 | J6: =J3*J5 -> 200.07215 | M6: FCFF actualisé | N6: =N3*N5 -> 230.38507 | O6: =O3*O5 -> 195.43572 | P6: =P3*P5 -> 211.6058 | Q6: =Q3*Q5 -> 233.14456 | R6: =R3*R5 -> 209.38661 | U6: FCFF actualisé | V6: =V3*V5 -> 229.31848 | W6: =W3*W5 -> 193.63031 | X6: =X3*X5 -> 208.68042 | Y6: =Y3*Y5 -> 228.85696 | Z6: =Z3*Z5 -> 204.58436 | AC6: FCFF actualisé | AD6: =AD3*AD5 -> 228.29788 | AE6: =AE3*AE5 -> 191.91063 | AF6: =AF3*AF5 -> 205.90657 | AG6: =AG3*AG5 -> 224.80992 | AH6: =AH3*AH5 -> 200.07215 | AK6: FCFF actualisé | AL6: =AL3*AL5 -> 227.21464 | AM6: =AM3*AM5 -> 190.09376 | AN6: =AN3*AN5 -> 202.98945 | AO6: =AO3*AO5 -> 220.57341 | AP6: =AP3*AP5 -> 195.37038 | AS6: FCFF actualisé | AT6: =AT3*AT5 -> 226.17713 | AU6: =AU3*AU5 -> 188.36171 | AV6: =AV3*AV5 -> 200.22145 | AW6: =AW3*AW5 -> 216.57218 | AX6: =AX3*AX5 -> 190.95042
A7: Credit Spread | B7: 0.0089
A8: Coût de la dette pré-impôt | B8: =B3+B7 -> 0.040822
A9: Taux d’impôt | B9: 0.25 | E9: Somme FCFF actualisés | F9: =SUM(F6:J6) -> 1050.9972 | M9: Somme FCFF actualisés | N9: =SUM(N6:R6) -> 1079.9578 | U9: Somme FCFF actualisés | V9: =SUM(V6:Z6) -> 1065.0705 | AC9: Somme FCFF actualisés | AD9: =SUM(AD6:AH6) -> 1050.9972 | AK9: Somme FCFF actualisés | AL9: =SUM(AL6:AP6) -> 1036.2416 | AS9: Somme FCFF actualisés | AT9: =SUM(AT6:AX6) -> 1022.2829
A10: Coût de la dette après impôt | B10: =B8*(1-B9) -> 0.0306165 | E10: Croissance terminale g | F10: 0.015 | M10: Croissance terminale g | N10: 0.01 | U10: Croissance terminale g | V10: 0.01 | AC10: Croissance terminale g | AD10: 0.01 | AK10: Croissance terminale g | AL10: 0.01 | AS10: Croissance terminale g | AT10: 0.01
A11: Valeur des fonds propres | B11: =154.5*19.29 -> 2980.305 | E11: Valeur terminale | F11: =J3*(1+F10)/(F4-F10) -> 4369.4539 | M11: Valeur terminale | N11: =R3*(1+N10)/(N4-N10) -> 4670.8856 | U11: Valeur terminale | V11: =Z3*(1+V10)/(V4-V10) -> 4337.251 | AC11: Valeur terminale | AD11: =AH3*(1+AD10)/(AD4-AD10) -> 4057.4016 | AK11: Valeur terminale | AL11: =AP3*(1+AL10)/(AL4-AL10) -> 3795.0946 | AS11: Valeur terminale | AT11: =AX3*(1+AT10)/(AT4-AT10) -> 3571.8537
A12: Valeur de la dette brute | B12: =Données!M29+Données!M34 -> 371.8 | E12: Valeur terminale actualisée | F12: =F11/(1+F4)^5 -> 2908.1887 | M12: Valeur terminale actualisée | N12: =N11/(1+N4)^5 -> 3253.5457 | U12: Valeur terminale actualisée | V12: =V11/(1+V4)^5 -> 2951.8601 | AC12: Valeur terminale actualisée | AD12: =AD11/(1+AD4)^5 -> 2700.4952 | AK12: Valeur terminale actualisée | AL12: =AL11/(1+AL4)^5 -> 2466.5511 | AS12: Valeur terminale actualisée | AT12: =AT11/(1+AT4)^5 -> 2268.9403
A13: Poids des fonds propres | B13: =B11/(B11+B12) -> 0.88908462 | E13: Valeur d’entreprise | F13: =F9+F12 -> 3959.1858 | M13: Enterprise Value | N13: =N9+N12 -> 4333.5035 | U13: Enterprise Value | V13: =V9+V12 -> 4016.9307 | AC13: Enterprise Value | AD13: =AD9+AD12 -> 3751.4923 | AK13: Enterprise Value | AL13: =AL9+AL12 -> 3502.7927 | AS13: Enterprise Value | AT13: =AT9+AT12 -> 3291.2232
A14: Poids de la dette | B14: =B12/(B12+B11) -> 0.11091538 | E14: Dette nette | F14: =Données!M29+Données!M34-Données!M16 -> -279 | M14: Dette nette | N14: =F14 -> -279 | U14: Dette nette | V14: =N14 -> -279 | AC14: Dette nette | AD14: =V14 -> -279 | AK14: Dette nette | AL14: =AD14 -> -279 | AS14: Dette nette | AT14: =AL14 -> -279
A15: WACC | B15: =B13*B6+B14*B10 -> 0.084828079 | E15: Valeur des fonds propres | F15: =F13-F14 -> 4238.1858 | M15: Equity Value | N15: =N13-N14 -> 4612.5035 | U15: Equity Value | V15: =V13-V14 -> 4295.9307 | AC15: Equity Value | AD15: =AD13-AD14 -> 4030.4923 | AK15: Equity Value | AL15: =AL13-AL14 -> 3781.7927 | AS15: Equity Value | AT15: =AT13-AT14 -> 3570.2232
A16: g | B16: 0.015 | E16: Nombre d’actions | F16: 19290000 | M16: Nombre d’actions | N16: 19290000 | U16: Nombre d’actions | V16: 19290000 | AC16: Nombre d’actions | AD16: 19290000 | AK16: Nombre d’actions | AL16: 19290000 | AS16: Nombre d’actions | AT16: 19290000
E17: Valeur par action | F17: =F15*1000000/F16 -> 219.70896 | M17: Valeur par action | N17: =N15*1000000/N16 -> 239.11371 | U17: Valeur par action | V17: =V15*1000000/V16 -> 222.70247 | AC17: Valeur par action | AD17: =AD15*1000000/AD16 -> 208.94206 | AK17: Valeur par action | AL17: =AL15*1000000/AL16 -> 196.04939 | AS17: Valeur par action | AT17: =AT15*1000000/AT16 -> 185.08156
M20: Année | N20: 2026 | O20: 2027 | P20: 2028 | Q20: 2029 | R20: 2030 | U20: Année | V20: 2026 | W20: 2027 | X20: 2028 | Y20: 2029 | Z20: 2030 | AC20: Année | AD20: 2026 | AE20: 2027 | AF20: 2028 | AG20: 2029 | AH20: 2030 | AK20: Année | AL20: 2026 | AM20: 2027 | AN20: 2028 | AO20: 2029 | AP20: 2030 | AS20: Année | AT20: 2026 | AU20: 2027 | AV20: 2028 | AW20: 2029 | AX20: 2030
M21: FCFF | N21: =F3 -> 247.66396 | O21: =G3 -> 225.8504 | P21: =H3 -> 262.87723 | Q21: =I3 -> 311.35737 | R21: =J3 -> 300.60155 | U21: FCFF | V21: =N21 -> 247.66396 | W21: =O21 -> 225.8504 | X21: =P21 -> 262.87723 | Y21: =Q21 -> 311.35737 | Z21: =R21 -> 300.60155 | AC21: FCFF | AD21: =V21 -> 247.66396 | AE21: =W21 -> 225.8504 | AF21: =X21 -> 262.87723 | AG21: =Y21 -> 311.35737 | AH21: =Z21 -> 300.60155 | AK21: FCFF | AL21: =AD21 -> 247.66396 | AM21: =AE21 -> 225.8504 | AN21: =AF21 -> 262.87723 | AO21: =AG21 -> 311.35737 | AP21: =AH21 -> 300.60155 | AS21: FCFF | AT21: =AL21 -> 247.66396 | AU21: =AM21 -> 225.8504 | AV21: =AN21 -> 262.87723 | AW21: =AO21 -> 311.35737 | AX21: =AP21 -> 300.60155
B22: 2026 | C22: 2027 | D22: 2028 | E22: 2029 | F22: 2030 | M22: WACC | N22: =Sensibilité!B4 -> 0.075 | U22: WACC | V22: =Sensibilité!B5 -> 0.08 | AC22: WACC | AD22: =Sensibilité!B7 -> 0.09 | AK22: WACC | AL22: =Sensibilité!B8 -> 0.095 | AS22: WACC | AT22: =Sensibilité!B4 -> 0.075
A23: FCFF | B23: =FCFF!G10 -> 247.66396 | C23: =FCFF!H10 -> 225.8504 | D23: =FCFF!I10 -> 262.87723 | E23: =FCFF!J10 -> 311.35737 | F23: =FCFF!K10 -> 300.60155 | M23: Facteur d’actualisation | N23: =1/(1+N22)^1 -> 0.93023256 | O23: =1/(1+N22)^2 -> 0.86533261 | P23: =1/(1+N22)^3 -> 0.80496057 | Q23: =1/(1+N22)^4 -> 0.74880053 | R23: =1/(1+N22)^5 -> 0.69655863 | U23: Facteur d’actualisation | V23: =1/(1+V22)^1 -> 0.92592593 | W23: =1/(1+V22)^2 -> 0.85733882 | X23: =1/(1+V22)^3 -> 0.79383224 | Y23: =1/(1+V22)^4 -> 0.73502985 | Z23: =1/(1+V22)^5 -> 0.6805832 | AC23: Facteur d’actualisation | AD23: =1/(1+AD22)^1 -> 0.91743119 | AE23: =1/(1+AD22)^2 -> 0.84167999 | AF23: =1/(1+AD22)^3 -> 0.77218348 | AG23: =1/(1+AD22)^4 -> 0.70842521 | AH23: =1/(1+AD22)^5 -> 0.64993139 | AK23: Facteur d’actualisation | AL23: =1/(1+AL22)^1 -> 0.91324201 | AM23: =1/(1+AL22)^2 -> 0.83401097 | AN23: =1/(1+AL22)^3 -> 0.76165385 | AO23: =1/(1+AL22)^4 -> 0.69557429 | AP23: =1/(1+AL22)^5 -> 0.63522767 | AS23: Facteur d’actualisation | AT23: =1/(1+AT22)^1 -> 0.93023256 | AU23: =1/(1+AT22)^2 -> 0.86533261 | AV23: =1/(1+AT22)^3 -> 0.80496057 | AW23: =1/(1+AT22)^4 -> 0.74880053 | AX23: =1/(1+AT22)^5 -> 0.69655863
A24: FCFF actualisé | B24: =F6 -> 228.29788 | C24: =G6 -> 191.91063 | D24: =H6 -> 205.90657 | E24: =I6 -> 224.80992 | F24: =J6 -> 200.07215 | M24: FCFF actualisé | N24: =N21*N23 -> 230.38507 | O24: =O21*O23 -> 195.43572 | P24: =P21*P23 -> 211.6058 | Q24: =Q21*Q23 -> 233.14456 | R24: =R21*R23 -> 209.38661 | U24: FCFF actualisé | V24: =V21*V23 -> 229.31848 | W24: =W21*W23 -> 193.63031 | X24: =X21*X23 -> 208.68042 | Y24: =Y21*Y23 -> 228.85696 | Z24: =Z21*Z23 -> 204.58436 | AC24: FCFF actualisé | AD24: =AD21*AD23 -> 227.21464 | AE24: =AE21*AE23 -> 190.09376 | AF24: =AF21*AF23 -> 202.98945 | AG24: =AG21*AG23 -> 220.57341 | AH24: =AH21*AH23 -> 195.37038 | AK24: FCFF actualisé | AL24: =AL21*AL23 -> 226.17713 | AM24: =AM21*AM23 -> 188.36171 | AN24: =AN21*AN23 -> 200.22145 | AO24: =AO21*AO23 -> 216.57218 | AP24: =AP21*AP23 -> 190.95042 | AS24: FCFF actualisé | AT24: =AT21*AT23 -> 230.38507 | AU24: =AU21*AU23 -> 195.43572 | AV24: =AV21*AV23 -> 211.6058 | AW24: =AW21*AW23 -> 233.14456 | AX24: =AX21*AX23 -> 209.38661
M26: Somme FCFF actualisés | N26: =SUM(N24:R24) -> 1079.9578 | U26: Somme FCFF actualisés | V26: =SUM(V24:Z24) -> 1065.0705 | AC26: Somme FCFF actualisés | AD26: =SUM(AD24:AH24) -> 1036.2416 | AK26: Somme FCFF actualisés | AL26: =SUM(AL24:AP24) -> 1022.2829 | AS26: Somme FCFF actualisés | AT26: =SUM(AT24:AX24) -> 1079.9578
M27: Croissance terminale g | N27: 0.015 | U27: Croissance terminale g | V27: 0.015 | AC27: Croissance terminale g | AD27: 0.015 | AK27: Croissance terminale g | AL27: 0.015 | AS27: Croissance terminale g | AT27: 0.02
M28: Valeur terminale | N28: =R21*(1+N27)/(N22-N27) -> 5085.1762 | U28: Valeur terminale | V28: =Z21*(1+V27)/(V22-V27) -> 4694.0088 | AC28: Valeur terminale | AD28: =AH21*(1+AD27)/(AD22-AD27) -> 4068.141 | AK28: Valeur terminale | AL28: =AP21*(1+AL27)/(AL22-AL27) -> 3813.8822 | AS28: Valeur terminale | AT28: =AX21*(1+AT27)/(AT22-AT27) -> 5574.7924
M29: Valeur terminale actualisée | N29: =N28/(1+N22)^5 -> 3542.1234 | U29: Valeur terminale actualisée | V29: =V28/(1+V22)^5 -> 3194.6635 | AC29: Valeur terminale actualisée | AD29: =AD28/(1+AD22)^5 -> 2644.0125 | AK29: Valeur terminale actualisée | AL29: =AL28/(1+AL22)^5 -> 2422.6835 | AS29: Valeur terminale actualisée | AT29: =AT28/(1+AT22)^5 -> 3883.1698
M30: Enterprise Value | N30: =N26+N29 -> 4622.0812 | U30: Enterprise Value | V30: =V26+V29 -> 4259.7341 | AC30: Enterprise Value | AD30: =AD26+AD29 -> 3680.2542 | AK30: Enterprise Value | AL30: =AL26+AL29 -> 3444.9664 | AS30: Enterprise Value | AT30: =AT26+AT29 -> 4963.1275
M31: Dette nette | N31: =N14 -> -279 | U31: Dette nette | V31: =N31 -> -279 | AC31: Dette nette | AD31: =V31 -> -279 | AK31: Dette nette | AL31: =AD31 -> -279 | AS31: Dette nette | AT31: =AL31 -> -279
M32: Equity Value | N32: =N30-N31 -> 4901.0812 | U32: Equity Value | V32: =V30-V31 -> 4538.7341 | AC32: Equity Value | AD32: =AD30-AD31 -> 3959.2542 | AK32: Equity Value | AL32: =AL30-AL31 -> 3723.9664 | AS32: Equity Value | AT32: =AT30-AT31 -> 5242.1275
M33: Nombre d’actions | N33: 19290000 | U33: Nombre d’actions | V33: 19290000 | AC33: Nombre d’actions | AD33: 19290000 | AK33: Nombre d’actions | AL33: 19290000 | AS33: Nombre d’actions | AT33: 19290000
M34: Valeur par action | N34: =N32*1000000/N33 -> 254.07367 | U34: Valeur par action | V34: =V32*1000000/V33 -> 235.28948 | AC34: Valeur par action | AD34: =AD32*1000000/AD33 -> 205.24905 | AK34: Valeur par action | AL34: =AL32*1000000/AL33 -> 193.05165 | AS34: Valeur par action | AT34: =AT32*1000000/AT33 -> 271.75363
U37: Année | V37: 2026 | W37: 2027 | X37: 2028 | Y37: 2029 | Z37: 2030 | AC37: Année | AD37: 2026 | AE37: 2027 | AF37: 2028 | AG37: 2029 | AH37: 2030 | AK37: Année | AL37: 2026 | AM37: 2027 | AN37: 2028 | AO37: 2029 | AP37: 2030 | AS37: Année | AT37: 2026 | AU37: 2027 | AV37: 2028 | AW37: 2029 | AX37: 2030
U38: FCFF | V38: =V21 -> 247.66396 | W38: =W21 -> 225.8504 | X38: =X21 -> 262.87723 | Y38: =Y21 -> 311.35737 | Z38: =Z21 -> 300.60155 | AC38: FCFF | AD38: =AD21 -> 247.66396 | AE38: =AE21 -> 225.8504 | AF38: =AF21 -> 262.87723 | AG38: =AG21 -> 311.35737 | AH38: =AH21 -> 300.60155 | AK38: FCFF | AL38: =AL21 -> 247.66396 | AM38: =AM21 -> 225.8504 | AN38: =AN21 -> 262.87723 | AO38: =AO21 -> 311.35737 | AP38: =AP21 -> 300.60155 | AS38: FCFF | AT38: =AT21 -> 247.66396 | AU38: =AU21 -> 225.8504 | AV38: =AV21 -> 262.87723 | AW38: =AW21 -> 311.35737 | AX38: =AX21 -> 300.60155
U39: WACC | V39: =Sensibilité!B5 -> 0.08 | AC39: WACC | AD39: =Sensibilité!B6 -> 0.084828079 | AK39: WACC | AL39: =Sensibilité!B7 -> 0.09 | AS39: WACC | AT39: =Sensibilité!B8 -> 0.095
U40: Facteur d’actualisation | V40: =1/(1+V39)^1 -> 0.92592593 | W40: =1/(1+V39)^2 -> 0.85733882 | X40: =1/(1+V39)^3 -> 0.79383224 | Y40: =1/(1+V39)^4 -> 0.73502985 | Z40: =1/(1+V39)^5 -> 0.6805832 | AC40: Facteur d’actualisation | AD40: =1/(1+AD39)^1 -> 0.92180505 | AE40: =1/(1+AD39)^2 -> 0.84972455 | AF40: =1/(1+AD39)^3 -> 0.78328038 | AG40: =1/(1+AD39)^4 -> 0.72203181 | AH40: =1/(1+AD39)^5 -> 0.66557256 | AK40: Facteur d’actualisation | AL40: =1/(1+AL39)^1 -> 0.91743119 | AM40: =1/(1+AL39)^2 -> 0.84167999 | AN40: =1/(1+AL39)^3 -> 0.77218348 | AO40: =1/(1+AL39)^4 -> 0.70842521 | AP40: =1/(1+AL39)^5 -> 0.64993139 | AS40: Facteur d’actualisation | AT40: =1/(1+AT39)^1 -> 0.91324201 | AU40: =1/(1+AT39)^2 -> 0.83401097 | AV40: =1/(1+AT39)^3 -> 0.76165385 | AW40: =1/(1+AT39)^4 -> 0.69557429 | AX40: =1/(1+AT39)^5 -> 0.63522767
U41: FCFF actualisé | V41: =V38*V40 -> 229.31848 | W41: =W38*W40 -> 193.63031 | X41: =X38*X40 -> 208.68042 | Y41: =Y38*Y40 -> 228.85696 | Z41: =Z38*Z40 -> 204.58436 | AC41: FCFF actualisé | AD41: =AD38*AD40 -> 228.29788 | AE41: =AE38*AE40 -> 191.91063 | AF41: =AF38*AF40 -> 205.90657 | AG41: =AG38*AG40 -> 224.80992 | AH41: =AH38*AH40 -> 200.07215 | AK41: FCFF actualisé | AL41: =AL38*AL40 -> 227.21464 | AM41: =AM38*AM40 -> 190.09376 | AN41: =AN38*AN40 -> 202.98945 | AO41: =AO38*AO40 -> 220.57341 | AP41: =AP38*AP40 -> 195.37038 | AS41: FCFF actualisé | AT41: =AT38*AT40 -> 226.17713 | AU41: =AU38*AU40 -> 188.36171 | AV41: =AV38*AV40 -> 200.22145 | AW41: =AW38*AW40 -> 216.57218 | AX41: =AX38*AX40 -> 190.95042
U43: Somme FCFF actualisés | V43: =SUM(V41:Z41) -> 1065.0705 | AC43: Somme FCFF actualisés | AD43: =SUM(AD41:AH41) -> 1050.9972 | AK43: Somme FCFF actualisés | AL43: =SUM(AL41:AP41) -> 1036.2416 | AS43: Somme FCFF actualisés | AT43: =SUM(AT41:AX41) -> 1022.2829
U44: Croissance terminale g | V44: 0.02 | AC44: Croissance terminale g | AD44: 0.02 | AK44: Croissance terminale g | AL44: 0.02 | AS44: Croissance terminale g | AT44: 0.02
U45: Valeur terminale | V45: =Z38*(1+V44)/(V39-V44) -> 5110.2264 | AC45: Valeur terminale | AD45: =AH38*(1+AD44)/(AD39-AD44) -> 4729.6416 | AK45: Valeur terminale | AL45: =AP38*(1+AL44)/(AL39-AL44) -> 4380.194 | AS45: Valeur terminale | AT45: =AX38*(1+AT44)/(AT39-AT44) -> 4088.1811
U46: Valeur terminale actualisée | V46: =V45/(1+V39)^5 -> 3477.9342 | AC46: Valeur terminale actualisée | AD46: =AD45/(1+AD39)^5 -> 3147.9197 | AK46: Valeur terminale actualisée | AL46: =AL45/(1+AL39)^5 -> 2846.8256 | AS46: Valeur terminale actualisée | AT46: =AT45/(1+AT39)^5 -> 2596.9257
...

Sheet Comparable
D1: Multiples de valorisation des sociétés comparables
A2: Société | B2: Pays | C2: Activité | D2: Market Cap(Mds €) | E2: EV/Sales FY1 | F2: EV/EBITDA FY1
A3: Trigano | B3: France | C3: Fabricant de véhicules de loisirs et équipements | D3: 3.04 | E3: 0.66 | F3: 5.72
A4: LCI Industries | B4: États-Unis | C4: Fournisseur d’équipements pour véhicules de loisirs | D4: 2.3 | E4: 0.84 | F4: 8.24
A5: Winnebago | B5: États-Unis | C5: Fabricant de camping-cars et véhicules de loisirs | D5: 0.70598 | E5: 0.41 | F5: 8.42
A6: Thor Industries | B6: États-Unis | C6: Fabricant de véhicules de loisirs | D6: 3.34 | E6: 0.46 | F6: 7.52
A7: Knaus Tabbert | B7: Allemagne | C7: Fabricant de camping-cars, caravanes et vans aménagés | D7: 0.125 | E7: 0.4 | F7: 7
A8: Médiane hors Trigano | D8: =MEDIAN(D4:D7) -> 1.50299 | E8: =MEDIAN(E4:E7) -> 0.435 | F8: =MEDIAN(F4:F7) -> 7.88
B11: EV/Sales FY1 | C11: EV/EBITDA FY1
A12: Multiple médian | B12: =E8 -> 0.435 | C12: =F8 -> 7.88
B13: CA 2026 | C13: EBITDA 2026
A14: Valeur de l’agrégat | B14: =FCFF!G3 -> 3715.103 | C14: =FCFF!G4+FCFF!G7 -> 419.80664
A15: Valeur obtenue | B15: =B12*B14 -> 1616.0698 | C15: =C12*C14 -> 3308.0763
A16: Dette nette Trigano | B16: =Données!M29+Données!M34-Données!M16 -> -279 | C16: =B16 -> -279
A17: Equity Value | B17: =B15-B16 -> 1895.0698 | C17: =C15-C16 -> 3587.0763
A18: Nombre d’actions | B18: =Valorisation!F16 -> 19290000 | C18: 19290000
A19: Valeur par action | B19: =B17*1000000/B18 -> 98.241047 | C19: =C17*1000000/C18 -> 185.95523

Sheet Sensibilité
A1: Analyse de sensibilité de la valeur par action au WACC et au taux de croissance terminale | I1: Sensibilité selon le scénario des FCFF pessimiste | P1: Sensibilité selon le scénario des FCFF optimiste
B2: g | I2: Péssimiste | J2: 2026 | K2: 2027 | L2: 2028 | M2: 2029 | N2: 2030 | P2: Optimiste | Q2: 2026 | R2: 2027 | S2: 2028 | T2: 2029 | U2: 2030
C3: 0.01 | D3: 0.015 | E3: 0.02 | I3: FCFF | J3: =FCFF!N10 -> 213.40448 | K3: =FCFF!O10 -> 190.62065 | L3: =FCFF!P10 -> 233.95392 | M3: =FCFF!Q10 -> 238.05662 | N3: =FCFF!R10 -> 243.47751 | P3: FCFF | Q3: =FCFF!U10 -> 266.83425 | R3: =FCFF!V10 -> 241.95899 | S3: =FCFF!W10 -> 277.38083 | T3: =FCFF!X10 -> 333.48542 | U3: =FCFF!Y10 -> 325.01232
A4: WACC | B4: 0.075 | C4: =Valorisation!N17 -> 239.11371 | D4: =Valorisation!N34 -> 254.07367 | E4: =Valorisation!AT34 -> 271.75363 | I4: WACC | J4: =B8 -> 0.095 | P4: WACC | Q4: =B4 -> 0.075
B5: 0.08 | C5: =Valorisation!V17 -> 222.70247 | D5: =Valorisation!V34 -> 235.28948 | E5: =Valorisation!V51 -> 249.97433 | I5: Facteur d’actualisation | J5: =1/(1+J4)^1 -> 0.91324201 | K5: =1/(1+J4)^2 -> 0.83401097 | L5: =1/(1+J4)^3 -> 0.76165385 | M5: =1/(1+J4)^4 -> 0.69557429 | N5: =1/(1+J4)^5 -> 0.63522767 | P5: Facteur d’actualisation | Q5: =1/(1+Q4)^1 -> 0.93023256 | R5: =1/(1+Q4)^2 -> 0.86533261 | S5: =1/(1+Q4)^3 -> 0.80496057 | T5: =1/(1+Q4)^4 -> 0.74880053 | U5: =1/(1+Q4)^5 -> 0.69655863
B6: =Valorisation!F4 -> 0.084828079 | C6: =Valorisation!AD17 -> 208.94206 | D6: =Valorisation!F17 -> 219.70896 | E6: =Valorisation!AD51 -> 232.1367 | I6: FCFF actualisé | J6: =J3*J5 -> 194.88994 | K6: =K3*K5 -> 158.97972 | L6: =L3*L5 -> 178.19191 | M6: =M3*M5 -> 165.58606 | N6: =N3*N5 -> 154.66365 | P6: FCFF actualisé | Q6: =Q3*Q5 -> 248.21791 | R6: =R3*R5 -> 209.375 | S6: =S3*S5 -> 223.28063 | T6: =T3*T5 -> 249.71406 | U6: =U3*U5 -> 226.39014
B7: 0.09 | C7: =Valorisation!AL17 -> 196.04939 | D7: =Valorisation!AD34 -> 205.24905 | E7: =Valorisation!AL51 -> 215.76295
B8: 0.095 | C8: =Valorisation!AT17 -> 185.08156 | D8: =Valorisation!AL34 -> 193.05165 | E8: =Valorisation!AT51 -> 202.08443 | I8: Somme FCFF actualisés | J8: =SUM(J6:N6) -> 852.31127 | P8: Somme FCFF actualisés | Q8: =SUM(Q6:U6) -> 1156.9777
I9: Croissance terminale g | J9: =C3 -> 0.01 | P9: Croissance terminale g | Q9: =E3 -> 0.02
I10: Valeur terminale | J10: =N3*(1+J9)/(J4-J9) -> 2893.0857 | P10: Valeur terminale | Q10: =U3*(1+Q9)/(Q4-Q9) -> 6027.5012
I11: Valeur terminale actualisée | J11: =J10/(1+J4)^5 -> 1837.7681 | P11: Valeur terminale actualisée | Q11: =Q10/(1+Q4)^5 -> 4198.508
I12: Enterprise Value | J12: =J8+J11 -> 2690.0793 | P12: Enterprise Value | Q12: =Q8+Q11 -> 5355.4857
I13: Dette nette | J13: =Valorisation!F14 -> -279 | P13: Dette nette | Q13: =Valorisation!F14 -> -279
I14: Equity Value | J14: =J12-J13 -> 2969.0793 | P14: Equity Value | Q14: =Q12-Q13 -> 5634.4857
I15: Nombre d’actions | J15: 19290000 | P15: Nombre d’actions | Q15: 19290000
I16: Valeur par action | J16: =J14*1000000/J15 -> 153.91806 | P16: Valeur par action | Q16: =Q14*1000000/Q15 -> 292.09361
A18: Valeur par action selon les scénarios pessimiste, central et optimiste
A19: Scénario | B19: FCFF utilisés | C19: WACC | D19: Croissance terminale | E19: Valeur par action
A20: Pessimiste | B20: FCFF pessimistes | C20: 0.095 | D20: 0.01 | E20: 153.92
A21: Central | B21: FCFF centraux | C21: 0.0848 | D21: 0.015 | E21: 219.71
A22: Optimiste | B22: FCFF optimistes | C22: 0.075 | D22: 0.02 | E22: 292.09

Sheet ESG
A1: Risque ESG identifié | B1: Impact financier potentiel | C1: Effet sur la valorisation
A2: Dépendance aux véhicules thermiques | B2: Risque de baisse de l’attractivité des camping-cars et vans thermiques si les normes environnementales, les restrictions de circulation ou le coût d’usage augmentent | C2: Croissance du chiffre d’affaires plus faible à moyen/long terme
A3: Scope 3 très élevé, principalement lié à l’utilisation des véhicules | B3: Exposition indirecte importante aux émissions générées par les clients, alors que Trigano contrôle peu cette partie de la chaîne de valeur | C3: Prime de risque plus élevée, WACC potentiellement plus élevé
A4: Dépendance aux constructeurs de châssis pour la transition bas-carbone | B4: Si les fournisseurs automobiles ne proposent pas assez vite des châssis électriques/hybrides performants, Trigano pourrait avoir du retard dans son offre | C4: Perte de compétitivité, baisse des ventes futures, marge EBIT plus faible
A5: Coût d’usage des véhicules diesel et fiscalité carbone | B5: Hausse possible du coût d’utilisation des camping-cars thermiques avec le prix du carburant, la fiscalité carbone ou les systèmes de quotas carbone | C5: Demande plus faible, croissance plus prudente dans les scénarios
A6: Besoin d’investissements dans des véhicules plus sobres | B6: Investissements supplémentaires en R&D, adaptation industrielle, partenariats technologiques ou nouveaux matériaux | C6: CAPEX plus élevés, FCFF plus faibles

Sheet Stock réputation
A1: Critère | B1: Données | C1: Nombre de points
A2: 1. Comportement du cours de l’action | C2: 0.45 | D2: Investing.com/Yahoo Finance le 24/05/26
A3: 1.1 Mouvements erratiques du cours de l’action
A4: Probabilité de mouvements erratiques (> 3,5 % par rapport à SBF120) | B4: 26/764=3,4% | C4: 5
A5: 1.2 Écart du cours de l’action par rapport à sa tendance
A6: Écart-type par rapport à la moyenne mobile 200 jours | B6: 0.1362 | C6: 4
A7: 2. Qualité de la structure actionnariale | C7: 5/10
A8: 2.1 Détention par de grands investisseurs institutionnels
A9: Proportion de grands investisseurs institutionnels (% du flottant) | B9: 6,25/41,9= 14,92% | C9: 5 | D9: Zonebourse
A10: 2.2 Fidélité des actionnaires
A11: Proportion de fonds vendant leurs actions chaque trimestre | B11: /
A12: 3. Gouvernance et attention portée à la création de valeur actionnariale | C12: 0.53333333 | D12: Rapport annuel 2025
A13: 3.1 Actionnaire de référence
A14: Type d’actionnaire de référence | B14: Famille | C14: 2
A15: 3.2 Structure du conseil d’administration
A16: Membres du conseil étant des actionnaires importants | B16: François Feuillet, Alice Cavalier Feuillet et Marie-Hélène Feuillet | C16: 2
A17: Séparation des rôles de CEO et de président du conseil | B17: structure dualiste avec Directoire et Conseil de surveillance | C17: 2
A18: Pourcentage d’administrateurs indépendants | B18: Non | C18: 0
A19: 3.3 Focus du CEO
A20: Détention d’actions exprimée en nombre d’années de salaire | B20: 0.99 | C20: 2
A21: 3.4 Intensité des relations investisseurs
A22: Nombre de jours par an consacrés par le CEO aux investisseurs | B22: /
A23: Nombre de jours par an consacrés par le CFO aux investisseurs | B23: /
A24: Nombre d’analystes couvrant l’entreprise | B24: 8 | D24: Zonebourse
A25: 4. Focus social et environnemental | C25: 0.55
A26: 4.1 Priorité et reporting de l’impact social | C26: 3
A27: Priorisation formelle de l’impact social | B27: Social/RSE intégré | C27: 2
A28: Reporting des indicateurs de performance sociale | B28: Reporting CSRD annuel | C28: 1
A29: 4.2 Impact des opérations et des produits sur les personnes | C29: 3
A30: Impact des opérations sur les personnes | B30: 11 000 collaborateurs | C30: 2
A31: Impact des produits/services sur les clients | B31: Loisirs/bien-être, impact limité | C31: 1
A32: 4.3 Priorité et reporting de l’impact environnemental | C32: 4
A33: Priorisation formelle de l’impact environnemental | B33: Environnement intégré à la RSE | C33: 2
A34: Reporting des indicateurs de performance environnementale | B34: Reporting CSRD détaillé | C34: 2
A35: 4.4 Impact des opérations et des produits sur l’environnement | C35: 1
A36: Impact des opérations sur l’environnement | B36: Impact direct limité mais industriel | C36: 1
A37: Impact des produits/services sur l’environnement | B37: Produits encore thermiques | C37: 0
A38: 5. Communication et cohérence | C38: 14/20
A39: 5.1 Qualité de la communication | C39: 8
A40: Communication sur le modèle économique | B40: Activités bien expliquées | C40: 2
...
